BEGIN:VCALENDAR
VERSION:2.0
PRODID:-//wp-events-plugin.com//7.2.3.1//EN
TZID:Europe/Rome
X-WR-TIMEZONE:Europe/Rome
BEGIN:VEVENT
UID:28@archeolab.net
DTSTART;TZID=Europe/Rome:20181216T163000
DTEND;TZID=Europe/Rome:20181216T190000
DTSTAMP:20181212T165258Z
URL:https://www.archeolab.net/eventi/alla-scoperta-dei-piceni-antiquarium-
 statale-di-numana-an/
SUMMARY:Alla scoperta dei Piceni - Antiquarium statale di Numana (AN)
DESCRIPTION:Laboratori didattici gratuiti per bambini presso l'Antiquarium 
 statale di Numana\, per scoprire l'archeologia divertendosi e per passare 
 una domenica diversa in famiglia.\n\nVi aspettiamo numerosi!\n\nInfo e pre
 notazioni 3938912443 - 071/9331162\n\n
ATTACH;FMTTYPE=image/jpeg:https://www.archeolab.net/wp-content/uploads/201
 8/12/per-sito_locandina-1.jpg
CATEGORIES:Didattica,Mostre ed esposizioni
LOCATION:Antiquarium Statale Numana\, Via La Fenice 4\, Numana\, 60026\, It
 alia
GEO:43.513072;13.62111040000002
X-APPLE-STRUCTURED-LOCATION;VALUE=URI;X-ADDRESS=Via La Fenice 4\, Numana\, 
 60026\, Italia;X-APPLE-RADIUS=100;X-TITLE=Antiquarium Statale Numana:geo:4
 3.513072,13.62111040000002
END:VEVENT
BEGIN:VTIMEZONE
TZID:Europe/Rome
X-LIC-LOCATION:Europe/Rome
BEGIN:STANDARD
DTSTART:20181028T020000
TZOFFSETFROM:+0200
TZOFFSETTO:+0100
TZNAME:CET
END:STANDARD
END:VTIMEZONE
END:VCALENDAR